BEGIN:VCALENDAR
VERSION:2.0
PRODID:-//Acton Trails - ECPv5.12.3//NONSGML v1.0//EN
CALSCALE:GREGORIAN
METHOD:PUBLISH
X-WR-CALNAME:Acton Trails
X-ORIGINAL-URL:https://trails.acton-ma.gov
X-WR-CALDESC:Events for Acton Trails
BEGIN:VTIMEZONE
TZID:America/New_York
BEGIN:DAYLIGHT
TZOFFSETFROM:-0500
TZOFFSETTO:-0400
TZNAME:EDT
DTSTART:20180311T070000
END:DAYLIGHT
BEGIN:STANDARD
TZOFFSETFROM:-0400
TZOFFSETTO:-0500
TZNAME:EST
DTSTART:20181104T060000
END:STANDARD
END:VTIMEZONE
BEGIN:VEVENT
DTSTART;TZID=America/New_York:20180320T190000
DTEND;TZID=America/New_York:20180320T210000
DTSTAMP:20260421T045803
CREATED:20170613T124140Z
LAST-MODIFIED:20181128T200854Z
UID:1100-1521572400-1521579600@trails.acton-ma.gov
SUMMARY:Acton Land Stewardship Committee Monthly Meeting
DESCRIPTION:TRUE
URL:https://trails.acton-ma.gov/event/acton-land-stewardship-committee-monthly-meeting-10/
LOCATION:Room 9 at Town Hall\, 472 Main St\,\, Acton\, MA\, 01720\, United States
CATEGORIES:LSC Monthly Meetings
END:VEVENT
END:VCALENDAR